BEGIN:VCALENDAR
VERSION:2.0
PRODID:-//Living Local Guide - ECPv3.10//NONSGML v1.0//EN
CALSCALE:GREGORIAN
METHOD:PUBLISH
X-WR-CALNAME:Living Local Guide
X-ORIGINAL-URL:https://www.livinglocalguide.com.au
X-WR-CALDESC:Events for Living Local Guide
BEGIN:VEVENT
DTSTART:20180713T090000Z
DTEND:20180722T090000Z
DTSTAMP:20180226T102243Z
CREATED:20171214T222341Z
LAST-MODIFIED:20171214T222341Z
UID:7400-1531472400-1532250000@www.livinglocalguide.com.au
SUMMARY:SLEEPING BEAUTY - A KNIGHT AVENGER’S TALE
DESCRIPTION:Awake from your enchanted slumber and be the first to book for our fun-for-all-the family fairy tale panto adventure\, SLEEPING BEAUTY – A KNIGHT AVENGER’S TALE.  Bursting into Melbourne’s Comedy Theatre for a strictly limited season from 29 June to 8 July and then landing in Sydney’s majestic State Theatre from 13 to 22 July 2018.\n\nFrom the same creative that brought you THE ADVENTURES OF PETER PAN AND TINKER BELL earlier this year\, be prepared to fall under the spell of Bonnie Lythgoe’s latest fairy tale classic.\n \nBy a single prick of her finger on her 18th birthday\, the maleficent Fairy Carabosse curses Princess Aurora to 100 years’ slumber.  Doomed by fate\, only a Prince’s sweet kiss can break the spell and awaken the sleeping beauty. Can Princess Aurora’s hilarious best friend Silly Billy and faithful Nanny Tickle help save the day and who will outwit the evil Carabosse and foil her wicked plans? \n \nFeaturing dazzling costumes\, stunning sets\, magic\, special effects\, hilarious comedy and thrilling musical numbers\, make sure you book your tickets now - it promises to be a ‘Beauty’! \n \nBonnie Lythgoe Productions is Australia’s biggest family musical pantomime producer.  PETER PAN will be the fourth panto produced by Bonnie Lythgoe after the success of Snow White Winter Family Musical in 2014 followed by Aladdin and His Wondrous Lamp in 2015\, Cinderella in 2016 and Peter Pan and Tinker Bell in 2017.  Bonnie has been staging ‘pantos’ in the USA and UK for a number of years.  Well known for her creativity and involvement in global television hits ‘American Idol’ and ‘So You Think You Can Dance’ and recently ‘I’m A Celebrity Get Me Out of Here’\, Bonnie is dedicated to bringing affordable theatre to families across Australia by presenting fun\, musical theatre that the whole family from the age of 3 to 103 can enjoy.  \n \n“hilarious\, stupendous\, high production values.  This show ticks all of those boxes in style” Herald Sun\, Melbourne (Peter Pan 2017)\n \nwww.ozpanto.com\n 
URL:https://www.livinglocalguide.com.au/event/sleeping-beauty-a-knight-avengers-tale/
LOCATION:NSW\, Australia
ATTACH;FMTTYPE=image/png:https://www.livinglocalguide.com.au/wp-content/uploads/2017/12/image001-2.png
ORGANIZER;CN=Tess O&#8217;Brien:MAILTO:tessrobrien@gmail.com
END:VEVENT
BEGIN:VEVENT
DTSTART:20181117T100000Z
DTEND:20181117T130000Z
DTSTAMP:20180226T102243Z
CREATED:20171214T222337Z
LAST-MODIFIED:20171214T222337Z
UID:7413-1542448800-1542459600@www.livinglocalguide.com.au
SUMMARY:CHRISTMAS WITH ANDRÉ
DESCRIPTION:Melbourne & Olympic Parks\, Olympic Blvd\, Melbourne VIC • 3001\nThe career of Dutch violin superstar André Rieu spans more than 30 years – he is not only a first-class entertainer\, he is the “King of Waltz”.  Thousands of fans from across the globe – including five continents – love his eclectic mix of waltz\, score music\, musical\, opera and easy listening.  And he sure knows how to stage a grand show including romantic moments and witty twists.  His orchestral tours draw more than 600\,000 people per year\, meaning that the charismatic entertainer outsells superstars like Coldplay\, Elton John or Madonna.  His Christmas With André tour 2018 leads him to Australia – with Melbourne\, Rod Laver Arena onSaturday 17 November\, Sydney\, ICC Sydney on Wednesday 21 Novemberand Perth\, Perth Arena\, on Saturday 24 November.\n \nEvenings with André Rieu offer perfect entertainment composed of world-famous\, romantic and emotional melodies\, lots of surprises\, a good deal of humour and top-class international soloists.  Rieu’s charisma\, passion and vibrancy make his appearance on stage a unique experience.  Together with his Johann Strauss Orchestra consisting of 60 members and celebrating its 30th anniversary in 2017\, André Rieu has initiated a world-wide revival of waltz music.  His shows draw people of all age groups and nationalities and one thing is guaranteed: sooner or later everybody is up and dancing.\n \nAndré Rieu: “People write to me\, telling me that it takes them two weeks to get back to normal after one of our shows.  It is simply fantastic to feel this energy and joy every evening.”\n \nRieu’s history is one of superlatives: The “Maestro for the Masses” (Wall Street Journal) has sold in excess of 40 Million CDs and DVDs\, topped the world charts 30 times\, received more than 500 platinum awards and three Brit-Awards for the “Album of the year”.  His albums regularly rank in the top 5 of the UK pop charts and his videos on YouTube rock up more than a billion views.  Over 2.4 million fans follow him on Facebook.  His Johann Strauss Orchestra is the world’s biggest private orchestra and has members from ten nations.\n \nAndré Rieu has been married for over 40 years.  Together with his wife Marjorie\, he lives in a romantic castle built in 1452 in his hometown of Maastricht\, Netherlands.  They have two sons and five grandchildren.\n \nIn 2018 André Rieu will perform in Germany\, Mexico\, Israel\, Eastern and Northern Europe\, the Netherlands and Argentina before his world tour will finally lead him back to Australiain November 2018.  Get the best tickets now\, experience an unforgettable evening and enjoy Christmas with André – LIVE!  \n \nAndré’s new album\, Amore\, and DVD\, The Magic of Maastricht\, have been eagerly welcomed by his Australian fans and both albums have topped the charts at No.1.
URL:https://www.livinglocalguide.com.au/event/christmas-with-andre/
LOCATION:14 Darling Dr\, Sydney\, NSW\, 2000\, Australia
ATTACH;FMTTYPE=image/png:https://www.livinglocalguide.com.au/wp-content/uploads/2017/12/image001.png
END:VEVENT
END:VCALENDAR